BEGIN:VCALENDAR
VERSION:2.0
PRODID:-//Boughton Ridge Golf Course - ECPv6.15.18//NONSGML v1.0//EN
CALSCALE:GREGORIAN
METHOD:PUBLISH
X-WR-CALNAME:Boughton Ridge Golf Course
X-ORIGINAL-URL:https://www.boughtonridgegolf.com
X-WR-CALDESC:Events for Boughton Ridge Golf Course
REFRESH-INTERVAL;VALUE=DURATION:PT1H
X-Robots-Tag:noindex
X-PUBLISHED-TTL:PT1H
BEGIN:VTIMEZONE
TZID:America/Chicago
BEGIN:DAYLIGHT
TZOFFSETFROM:-0600
TZOFFSETTO:-0500
TZNAME:CDT
DTSTART:20240310T080000
END:DAYLIGHT
BEGIN:STANDARD
TZOFFSETFROM:-0500
TZOFFSETTO:-0600
TZNAME:CST
DTSTART:20241103T070000
END:STANDARD
BEGIN:DAYLIGHT
TZOFFSETFROM:-0600
TZOFFSETTO:-0500
TZNAME:CDT
DTSTART:20250309T080000
END:DAYLIGHT
BEGIN:STANDARD
TZOFFSETFROM:-0500
TZOFFSETTO:-0600
TZNAME:CST
DTSTART:20251102T070000
END:STANDARD
BEGIN:DAYLIGHT
TZOFFSETFROM:-0600
TZOFFSETTO:-0500
TZNAME:CDT
DTSTART:20260308T080000
END:DAYLIGHT
BEGIN:STANDARD
TZOFFSETFROM:-0500
TZOFFSETTO:-0600
TZNAME:CST
DTSTART:20261101T070000
END:STANDARD
END:VTIMEZONE
BEGIN:VEVENT
DTSTART;TZID=America/Chicago:20250410T180000
DTEND;TZID=America/Chicago:20250410T220000
DTSTAMP:20260423T210605
CREATED:20250321T185021Z
LAST-MODIFIED:20250321T185045Z
UID:10000513-1744308000-1744322400@www.boughtonridgegolf.com
SUMMARY:10th Hole Pub Reunion
DESCRIPTION:The 10th Hole Pub Reunion returns for the 2nd time! We will have a special announcement and unveiling at 7pm\nYou do NOT want to miss this one!\nHang out and catch up with old friends and make new ones!\nDraft Beer prices will be at throwback prices along with other drink specials. We will also be bringing back some of your favorite dishes for one night only.\n*No Admission Fee*
URL:https://www.boughtonridgegolf.com/event/10th-hole-pub-reunion-2/
END:VEVENT
END:VCALENDAR