BEGIN:VCALENDAR
VERSION:2.0
PRODID:-//Boughton Ridge Golf Course - ECPv6.15.18//NONSGML v1.0//EN
CALSCALE:GREGORIAN
METHOD:PUBLISH
X-ORIGINAL-URL:https://www.boughtonridgegolf.com
X-WR-CALDESC:Events for Boughton Ridge Golf Course
REFRESH-INTERVAL;VALUE=DURATION:PT1H
X-Robots-Tag:noindex
X-PUBLISHED-TTL:PT1H
BEGIN:VTIMEZONE
TZID:America/Chicago
BEGIN:DAYLIGHT
TZOFFSETFROM:-0600
TZOFFSETTO:-0500
TZNAME:CDT
DTSTART:20240310T080000
END:DAYLIGHT
BEGIN:STANDARD
TZOFFSETFROM:-0500
TZOFFSETTO:-0600
TZNAME:CST
DTSTART:20241103T070000
END:STANDARD
BEGIN:DAYLIGHT
TZOFFSETFROM:-0600
TZOFFSETTO:-0500
TZNAME:CDT
DTSTART:20250309T080000
END:DAYLIGHT
BEGIN:STANDARD
TZOFFSETFROM:-0500
TZOFFSETTO:-0600
TZNAME:CST
DTSTART:20251102T070000
END:STANDARD
BEGIN:DAYLIGHT
TZOFFSETFROM:-0600
TZOFFSETTO:-0500
TZNAME:CDT
DTSTART:20260308T080000
END:DAYLIGHT
BEGIN:STANDARD
TZOFFSETFROM:-0500
TZOFFSETTO:-0600
TZNAME:CST
DTSTART:20261101T070000
END:STANDARD
END:VTIMEZONE
BEGIN:VEVENT
DTSTART;TZID=America/Chicago:20251025T150000
DTEND;TZID=America/Chicago:20251025T170000
DTSTAMP:20260420T052312
CREATED:20250918T144333Z
LAST-MODIFIED:20250918T144407Z
UID:10000807-1761404400-1761411600@www.boughtonridgegolf.com
SUMMARY:Superintendent's Revenge
DESCRIPTION:  \nDare to play Boughton Ridge Golf Course like never before!\nHaunted pin positions and spooky obstacles lurk around every corner.\nIncludes Golf with Cart\, Game Contests\, and Prizes!\n3pm Shotgun Start4 person scramble layout(groups of less than 4 may be paired with others)
URL:https://www.boughtonridgegolf.com/event/superintendents-revenge-2/
END:VEVENT
END:VCALENDAR