BEGIN:VCALENDAR
VERSION:2.0
PRODID:-//Boughton Ridge Golf Course - ECPv6.15.18//NONSGML v1.0//EN
CALSCALE:GREGORIAN
METHOD:PUBLISH
X-WR-CALNAME:Boughton Ridge Golf Course
X-ORIGINAL-URL:https://www.boughtonridgegolf.com
X-WR-CALDESC:Events for Boughton Ridge Golf Course
REFRESH-INTERVAL;VALUE=DURATION:PT1H
X-Robots-Tag:noindex
X-PUBLISHED-TTL:PT1H
BEGIN:VTIMEZONE
TZID:America/Chicago
BEGIN:DAYLIGHT
TZOFFSETFROM:-0600
TZOFFSETTO:-0500
TZNAME:CDT
DTSTART:20240310T080000
END:DAYLIGHT
BEGIN:STANDARD
TZOFFSETFROM:-0500
TZOFFSETTO:-0600
TZNAME:CST
DTSTART:20241103T070000
END:STANDARD
BEGIN:DAYLIGHT
TZOFFSETFROM:-0600
TZOFFSETTO:-0500
TZNAME:CDT
DTSTART:20250309T080000
END:DAYLIGHT
BEGIN:STANDARD
TZOFFSETFROM:-0500
TZOFFSETTO:-0600
TZNAME:CST
DTSTART:20251102T070000
END:STANDARD
BEGIN:DAYLIGHT
TZOFFSETFROM:-0600
TZOFFSETTO:-0500
TZNAME:CDT
DTSTART:20260308T080000
END:DAYLIGHT
BEGIN:STANDARD
TZOFFSETFROM:-0500
TZOFFSETTO:-0600
TZNAME:CST
DTSTART:20261101T070000
END:STANDARD
END:VTIMEZONE
BEGIN:VEVENT
DTSTART;TZID=America/Chicago:20250204T190000
DTEND;TZID=America/Chicago:20250204T210000
DTSTAMP:20260424T014755
CREATED:20250918T134509Z
LAST-MODIFIED:20250918T144003Z
UID:10000139-1738695600-1738702800@www.boughtonridgegolf.com
SUMMARY:Trivia Tuesday
DESCRIPTION:
URL:https://www.boughtonridgegolf.com/event/trivia-tuesday-6-2/2025-02-04/
END:VEVENT
BEGIN:VEVENT
DTSTART;VALUE=DATE:20250207
DTEND;VALUE=DATE:20250208
DTSTAMP:20260424T014755
CREATED:20250203T191123Z
LAST-MODIFIED:20260204T215626Z
UID:10000246-1738886400-1738972799@www.boughtonridgegolf.com
SUMMARY:All You Can Eat Fish Fry!
DESCRIPTION:  \nAll You Can Eat Fish Fry! \nAYCE Fish $20 \nAYCE  Fish & Shrimp $23 \nAll Friday. Every Friday!
URL:https://www.boughtonridgegolf.com/event/all-you-can-eat-fish-fry/2025-02-07/
END:VEVENT
BEGIN:VEVENT
DTSTART;TZID=America/Chicago:20250208T180000
DTEND;TZID=America/Chicago:20250208T210000
DTSTAMP:20260424T014755
CREATED:20241210T172857Z
LAST-MODIFIED:20241210T172857Z
UID:10000239-1739037600-1739048400@www.boughtonridgegolf.com
SUMMARY:Comedy Night
DESCRIPTION:
URL:https://www.boughtonridgegolf.com/event/comedy-night-2/
END:VEVENT
BEGIN:VEVENT
DTSTART;TZID=America/Chicago:20250211T190000
DTEND;TZID=America/Chicago:20250211T210000
DTSTAMP:20260424T014755
CREATED:20250918T134509Z
LAST-MODIFIED:20250918T144003Z
UID:10000140-1739300400-1739307600@www.boughtonridgegolf.com
SUMMARY:Trivia Tuesday
DESCRIPTION:
URL:https://www.boughtonridgegolf.com/event/trivia-tuesday-6-2/2025-02-11/
END:VEVENT
BEGIN:VEVENT
DTSTART;VALUE=DATE:20250214
DTEND;VALUE=DATE:20250215
DTSTAMP:20260424T014755
CREATED:20250203T191123Z
LAST-MODIFIED:20260204T215626Z
UID:10000247-1739491200-1739577599@www.boughtonridgegolf.com
SUMMARY:All You Can Eat Fish Fry!
DESCRIPTION:  \nAll You Can Eat Fish Fry! \nAYCE Fish $20 \nAYCE  Fish & Shrimp $23 \nAll Friday. Every Friday!
URL:https://www.boughtonridgegolf.com/event/all-you-can-eat-fish-fry/2025-02-14/
END:VEVENT
BEGIN:VEVENT
DTSTART;TZID=America/Chicago:20250214T180000
DTEND;TZID=America/Chicago:20250214T210000
DTSTAMP:20260424T014755
CREATED:20241210T172925Z
LAST-MODIFIED:20241210T172925Z
UID:10000240-1739556000-1739566800@www.boughtonridgegolf.com
SUMMARY:Valentine's Day Dinner
DESCRIPTION:
URL:https://www.boughtonridgegolf.com/event/valentines-day-dinner/
END:VEVENT
BEGIN:VEVENT
DTSTART;TZID=America/Chicago:20250215T093000
DTEND;TZID=America/Chicago:20250215T170000
DTSTAMP:20260424T014755
CREATED:20241210T173014Z
LAST-MODIFIED:20241210T173014Z
UID:10000241-1739611800-1739638800@www.boughtonridgegolf.com
SUMMARY:Frost Bite Open
DESCRIPTION:https://www.boughtonridgegolf.com/product/frost-bite-open-2025/
URL:https://www.boughtonridgegolf.com/event/frost-bite-open-2/
END:VEVENT
BEGIN:VEVENT
DTSTART;TZID=America/Chicago:20250218T190000
DTEND;TZID=America/Chicago:20250218T210000
DTSTAMP:20260424T014755
CREATED:20250918T134509Z
LAST-MODIFIED:20250918T144003Z
UID:10000141-1739905200-1739912400@www.boughtonridgegolf.com
SUMMARY:Trivia Tuesday
DESCRIPTION:
URL:https://www.boughtonridgegolf.com/event/trivia-tuesday-6-2/2025-02-18/
END:VEVENT
BEGIN:VEVENT
DTSTART;VALUE=DATE:20250221
DTEND;VALUE=DATE:20250222
DTSTAMP:20260424T014755
CREATED:20250203T191123Z
LAST-MODIFIED:20260204T215626Z
UID:10000248-1740096000-1740182399@www.boughtonridgegolf.com
SUMMARY:All You Can Eat Fish Fry!
DESCRIPTION:  \nAll You Can Eat Fish Fry! \nAYCE Fish $20 \nAYCE  Fish & Shrimp $23 \nAll Friday. Every Friday!
URL:https://www.boughtonridgegolf.com/event/all-you-can-eat-fish-fry/2025-02-21/
END:VEVENT
BEGIN:VEVENT
DTSTART;TZID=America/Chicago:20250225T190000
DTEND;TZID=America/Chicago:20250225T210000
DTSTAMP:20260424T014755
CREATED:20250918T134509Z
LAST-MODIFIED:20250918T144003Z
UID:10000142-1740510000-1740517200@www.boughtonridgegolf.com
SUMMARY:Trivia Tuesday
DESCRIPTION:
URL:https://www.boughtonridgegolf.com/event/trivia-tuesday-6-2/2025-02-25/
END:VEVENT
BEGIN:VEVENT
DTSTART;VALUE=DATE:20250228
DTEND;VALUE=DATE:20250301
DTSTAMP:20260424T014755
CREATED:20250203T191123Z
LAST-MODIFIED:20260204T215626Z
UID:10000249-1740700800-1740787199@www.boughtonridgegolf.com
SUMMARY:All You Can Eat Fish Fry!
DESCRIPTION:  \nAll You Can Eat Fish Fry! \nAYCE Fish $20 \nAYCE  Fish & Shrimp $23 \nAll Friday. Every Friday!
URL:https://www.boughtonridgegolf.com/event/all-you-can-eat-fish-fry/2025-02-28/
END:VEVENT
END:VCALENDAR