BEGIN:VCALENDAR
VERSION:2.0
PRODID:-//Boughton Ridge Golf Course - ECPv6.15.18//NONSGML v1.0//EN
CALSCALE:GREGORIAN
METHOD:PUBLISH
X-WR-CALNAME:Boughton Ridge Golf Course
X-ORIGINAL-URL:https://www.boughtonridgegolf.com
X-WR-CALDESC:Events for Boughton Ridge Golf Course
REFRESH-INTERVAL;VALUE=DURATION:PT1H
X-Robots-Tag:noindex
X-PUBLISHED-TTL:PT1H
BEGIN:VTIMEZONE
TZID:America/Chicago
BEGIN:DAYLIGHT
TZOFFSETFROM:-0600
TZOFFSETTO:-0500
TZNAME:CDT
DTSTART:20240310T080000
END:DAYLIGHT
BEGIN:STANDARD
TZOFFSETFROM:-0500
TZOFFSETTO:-0600
TZNAME:CST
DTSTART:20241103T070000
END:STANDARD
BEGIN:DAYLIGHT
TZOFFSETFROM:-0600
TZOFFSETTO:-0500
TZNAME:CDT
DTSTART:20250309T080000
END:DAYLIGHT
BEGIN:STANDARD
TZOFFSETFROM:-0500
TZOFFSETTO:-0600
TZNAME:CST
DTSTART:20251102T070000
END:STANDARD
BEGIN:DAYLIGHT
TZOFFSETFROM:-0600
TZOFFSETTO:-0500
TZNAME:CDT
DTSTART:20260308T080000
END:DAYLIGHT
BEGIN:STANDARD
TZOFFSETFROM:-0500
TZOFFSETTO:-0600
TZNAME:CST
DTSTART:20261101T070000
END:STANDARD
END:VTIMEZONE
BEGIN:VEVENT
DTSTART;TZID=America/Chicago:20250603T190000
DTEND;TZID=America/Chicago:20250603T210000
DTSTAMP:20260421T065255
CREATED:20250918T134509Z
LAST-MODIFIED:20250918T144003Z
UID:10000156-1748977200-1748984400@www.boughtonridgegolf.com
SUMMARY:Trivia Tuesday
DESCRIPTION:
URL:https://www.boughtonridgegolf.com/event/trivia-tuesday-6-2/2025-06-03/
END:VEVENT
BEGIN:VEVENT
DTSTART;VALUE=DATE:20250606
DTEND;VALUE=DATE:20250607
DTSTAMP:20260421T065255
CREATED:20250203T191123Z
LAST-MODIFIED:20260204T215626Z
UID:10000263-1749168000-1749254399@www.boughtonridgegolf.com
SUMMARY:All You Can Eat Fish Fry!
DESCRIPTION:  \nAll You Can Eat Fish Fry! \nAYCE Fish $20 \nAYCE  Fish & Shrimp $23 \nAll Friday. Every Friday!
URL:https://www.boughtonridgegolf.com/event/all-you-can-eat-fish-fry/2025-06-06/
END:VEVENT
BEGIN:VEVENT
DTSTART;TZID=America/Chicago:20250610T190000
DTEND;TZID=America/Chicago:20250610T210000
DTSTAMP:20260421T065255
CREATED:20250918T134509Z
LAST-MODIFIED:20250918T144003Z
UID:10000157-1749582000-1749589200@www.boughtonridgegolf.com
SUMMARY:Trivia Tuesday
DESCRIPTION:
URL:https://www.boughtonridgegolf.com/event/trivia-tuesday-6-2/2025-06-10/
END:VEVENT
BEGIN:VEVENT
DTSTART;VALUE=DATE:20250613
DTEND;VALUE=DATE:20250614
DTSTAMP:20260421T065255
CREATED:20250203T191123Z
LAST-MODIFIED:20260204T215626Z
UID:10000264-1749772800-1749859199@www.boughtonridgegolf.com
SUMMARY:All You Can Eat Fish Fry!
DESCRIPTION:  \nAll You Can Eat Fish Fry! \nAYCE Fish $20 \nAYCE  Fish & Shrimp $23 \nAll Friday. Every Friday!
URL:https://www.boughtonridgegolf.com/event/all-you-can-eat-fish-fry/2025-06-13/
END:VEVENT
BEGIN:VEVENT
DTSTART;TZID=America/Chicago:20250617T190000
DTEND;TZID=America/Chicago:20250617T210000
DTSTAMP:20260421T065255
CREATED:20250918T134509Z
LAST-MODIFIED:20250918T144003Z
UID:10000158-1750186800-1750194000@www.boughtonridgegolf.com
SUMMARY:Trivia Tuesday
DESCRIPTION:
URL:https://www.boughtonridgegolf.com/event/trivia-tuesday-6-2/2025-06-17/
END:VEVENT
BEGIN:VEVENT
DTSTART;VALUE=DATE:20250620
DTEND;VALUE=DATE:20250621
DTSTAMP:20260421T065255
CREATED:20250203T191123Z
LAST-MODIFIED:20260204T215626Z
UID:10000265-1750377600-1750463999@www.boughtonridgegolf.com
SUMMARY:All You Can Eat Fish Fry!
DESCRIPTION:  \nAll You Can Eat Fish Fry! \nAYCE Fish $20 \nAYCE  Fish & Shrimp $23 \nAll Friday. Every Friday!
URL:https://www.boughtonridgegolf.com/event/all-you-can-eat-fish-fry/2025-06-20/
END:VEVENT
BEGIN:VEVENT
DTSTART;TZID=America/Chicago:20250624T190000
DTEND;TZID=America/Chicago:20250624T210000
DTSTAMP:20260421T065255
CREATED:20250918T134509Z
LAST-MODIFIED:20250918T144003Z
UID:10000159-1750791600-1750798800@www.boughtonridgegolf.com
SUMMARY:Trivia Tuesday
DESCRIPTION:
URL:https://www.boughtonridgegolf.com/event/trivia-tuesday-6-2/2025-06-24/
END:VEVENT
BEGIN:VEVENT
DTSTART;VALUE=DATE:20250627
DTEND;VALUE=DATE:20250628
DTSTAMP:20260421T065255
CREATED:20250203T191123Z
LAST-MODIFIED:20260204T215626Z
UID:10000266-1750982400-1751068799@www.boughtonridgegolf.com
SUMMARY:All You Can Eat Fish Fry!
DESCRIPTION:  \nAll You Can Eat Fish Fry! \nAYCE Fish $20 \nAYCE  Fish & Shrimp $23 \nAll Friday. Every Friday!
URL:https://www.boughtonridgegolf.com/event/all-you-can-eat-fish-fry/2025-06-27/
END:VEVENT
END:VCALENDAR